BEGIN:VCALENDAR
VERSION:2.0
PRODID:-//Women &amp; Infants - ECPv6.15.20//NONSGML v1.0//EN
CALSCALE:GREGORIAN
METHOD:PUBLISH
X-ORIGINAL-URL:https://wihfacts.org
X-WR-CALDESC:Events for Women &amp; Infants
REFRESH-INTERVAL;VALUE=DURATION:PT1H
X-Robots-Tag:noindex
X-PUBLISHED-TTL:PT1H
BEGIN:VTIMEZONE
TZID:UTC
BEGIN:STANDARD
TZOFFSETFROM:+0000
TZOFFSETTO:+0000
TZNAME:UTC
DTSTART:20230101T000000
END:STANDARD
END:VTIMEZONE
BEGIN:VEVENT
DTSTART;TZID=UTC:20241009T130000
DTEND;TZID=UTC:20241009T190000
DTSTAMP:20260421T152636
CREATED:20241001T081929Z
LAST-MODIFIED:20241010T085726Z
UID:127-1728478800-1728500400@wihfacts.org
SUMMARY:Negotiation Session
DESCRIPTION:Warwick
URL:https://wihfacts.org/event/negotiation-session-2/
END:VEVENT
BEGIN:VEVENT
DTSTART;TZID=UTC:20241002T130000
DTEND;TZID=UTC:20241002T160000
DTSTAMP:20260421T152636
CREATED:20241001T081138Z
LAST-MODIFIED:20241010T085729Z
UID:123-1727874000-1727884800@wihfacts.org
SUMMARY:Negotiation Session
DESCRIPTION:Warwick
URL:https://wihfacts.org/event/negotiation-session/
END:VEVENT
END:VCALENDAR